BEGIN:VCALENDAR
VERSION:2.0
PRODID:-//eventon.com NONSGML v1.0//EN
CALSCALE:GREGORIAN
METHOD:PUBLISH
BEGIN:VEVENT
UID:69e81f0239b32
DTSTAMP:20260422T010610Z
DTSTART:20260512T170000Z
DTEND:20260512T200000Z
LOCATION:Boston\,  MA Foley & Lardner LLP\, 111 Huntington Avenue\,  Suite 2500 Broadway\,  Boston\,  MA 02199 https://maps.app.goo.gl/RAWVqNn3oMv4rqWy8
SUMMARY:GreekUp
DESCRIPTION:The Hellenic Innovation Network is excited to present GreekUp\,
   a flagship gathering spotlighting the rise of the Greek innovation ecosys
 tem and its growing global impact. This special edition will also honor the
  Consul General of Greece in Boston\,  celebrating his contribution to stre
 ngthening ties between Greece and the U.S. innovation[..]\nhttps://hellenic
 .org/events/greek-up-the-next-generation-of-greek-deep-tech/
URL:https://hellenic.org/events/greek-up-the-next-generation-of-greek-deep-tech/
END:VEVENT
END:VCALENDAR